BEGIN:VCALENDAR
VERSION:2.0
PRODID:-//Observatori Progressista de Mallorca - ECPv6.2.1//NONSGML v1.0//EN
CALSCALE:GREGORIAN
METHOD:PUBLISH
X-WR-CALNAME:Observatori Progressista de Mallorca
X-ORIGINAL-URL:https://observatoriprogressista.org
X-WR-CALDESC:Esdeveniments per Observatori Progressista de Mallorca
REFRESH-INTERVAL;VALUE=DURATION:PT1H
X-Robots-Tag:noindex
X-PUBLISHED-TTL:PT1H
BEGIN:VTIMEZONE
TZID:UTC
BEGIN:STANDARD
TZOFFSETFROM:+0000
TZOFFSETTO:+0000
TZNAME:UTC
DTSTART:20250101T000000
END:STANDARD
END:VTIMEZONE
BEGIN:VEVENT
DTSTART;TZID=UTC:20251118T080000
DTEND;TZID=UTC:20251118T170000
DTSTAMP:20260422T220456
CREATED:20230906T105156Z
LAST-MODIFIED:20230906T105156Z
UID:3510-1763452800-1763485200@observatoriprogressista.org
SUMMARY:Alumni Reunion
DESCRIPTION:Mollit lacus! Diamlorem gravida sint sollicitudin! Consequuntur provident reiciendis duis sociosqu rem\, sem tincidunt et provident. Et porro\, exercitation suspendisse porta! Nibh\, vero eveniet! Aut temporibus molestie facilis blandit\, beatae\, earum quasi.  Quo distinctio maxime quae? Totam turpis corporis\, illum ullamco maxime quis repellat do? Modi voluptates ac\, delectus integer torquent! \nLigula malesuada netus! Nisi suspendisse\, cursus temporibus debitis quaerat et aenean egestas\, cupiditate asperiores fames convallis volutpat porro potenti\, magnam rhoncus vehicula veritatis recusandae! Quas montes maecenas dictum minima. Adipisicing\, sodales architecto error! Vestibulum netus nostrud ipsum\, mollitia delectus! Eius repudiandae rutrum odit aliquid nostrum accumsan sociis itaque\, optio.
URL:https://observatoriprogressista.org/event/alumni-reunion/
CATEGORIES:Campus & Community
ATTACH;FMTTYPE=image/jpeg:https://observatoriprogressista.org/wp-content/uploads/2023/03/52421114990_924fd9c0d5_k-13.jpg
END:VEVENT
BEGIN:VEVENT
DTSTART;TZID=UTC:20251118T080000
DTEND;TZID=UTC:20251118T170000
DTSTAMP:20260422T220456
CREATED:20230906T111524Z
LAST-MODIFIED:20230906T111524Z
UID:3803-1763452800-1763485200@observatoriprogressista.org
SUMMARY:Alumni Reunion
DESCRIPTION:Mollit lacus! Diamlorem gravida sint sollicitudin! Consequuntur provident reiciendis duis sociosqu rem\, sem tincidunt et provident. Et porro\, exercitation suspendisse porta! Nibh\, vero eveniet! Aut temporibus molestie facilis blandit\, beatae\, earum quasi.  Quo distinctio maxime quae? Totam turpis corporis\, illum ullamco maxime quis repellat do? Modi voluptates ac\, delectus integer torquent! \nLigula malesuada netus! Nisi suspendisse\, cursus temporibus debitis quaerat et aenean egestas\, cupiditate asperiores fames convallis volutpat porro potenti\, magnam rhoncus vehicula veritatis recusandae! Quas montes maecenas dictum minima. Adipisicing\, sodales architecto error! Vestibulum netus nostrud ipsum\, mollitia delectus! Eius repudiandae rutrum odit aliquid nostrum accumsan sociis itaque\, optio.
URL:https://observatoriprogressista.org/event/alumni-reunion-2/
CATEGORIES:Campus & Community
ATTACH;FMTTYPE=image/jpeg:https://observatoriprogressista.org/wp-content/uploads/2023/03/52421114990_924fd9c0d5_k-15.jpg
END:VEVENT
BEGIN:VEVENT
DTSTART;TZID=UTC:20251118T080000
DTEND;TZID=UTC:20251118T170000
DTSTAMP:20260422T220456
CREATED:20230906T140732Z
LAST-MODIFIED:20230906T140732Z
UID:4014-1763452800-1763485200@observatoriprogressista.org
SUMMARY:Alumni Reunion
DESCRIPTION:Mollit lacus! Diamlorem gravida sint sollicitudin! Consequuntur provident reiciendis duis sociosqu rem\, sem tincidunt et provident. Et porro\, exercitation suspendisse porta! Nibh\, vero eveniet! Aut temporibus molestie facilis blandit\, beatae\, earum quasi.  Quo distinctio maxime quae? Totam turpis corporis\, illum ullamco maxime quis repellat do? Modi voluptates ac\, delectus integer torquent! \nLigula malesuada netus! Nisi suspendisse\, cursus temporibus debitis quaerat et aenean egestas\, cupiditate asperiores fames convallis volutpat porro potenti\, magnam rhoncus vehicula veritatis recusandae! Quas montes maecenas dictum minima. Adipisicing\, sodales architecto error! Vestibulum netus nostrud ipsum\, mollitia delectus! Eius repudiandae rutrum odit aliquid nostrum accumsan sociis itaque\, optio.
URL:https://observatoriprogressista.org/event/alumni-reunion-3/
CATEGORIES:Campus & Community
ATTACH;FMTTYPE=image/jpeg:https://observatoriprogressista.org/wp-content/uploads/2023/03/52421114990_924fd9c0d5_k-16.jpg
END:VEVENT
BEGIN:VEVENT
DTSTART;TZID=UTC:20251118T080000
DTEND;TZID=UTC:20251118T170000
DTSTAMP:20260422T220456
CREATED:20230908T122354Z
LAST-MODIFIED:20230908T122354Z
UID:4224-1763452800-1763485200@observatoriprogressista.org
SUMMARY:Alumni Reunion
DESCRIPTION:Mollit lacus! Diamlorem gravida sint sollicitudin! Consequuntur provident reiciendis duis sociosqu rem\, sem tincidunt et provident. Et porro\, exercitation suspendisse porta! Nibh\, vero eveniet! Aut temporibus molestie facilis blandit\, beatae\, earum quasi.  Quo distinctio maxime quae? Totam turpis corporis\, illum ullamco maxime quis repellat do? Modi voluptates ac\, delectus integer torquent! \nLigula malesuada netus! Nisi suspendisse\, cursus temporibus debitis quaerat et aenean egestas\, cupiditate asperiores fames convallis volutpat porro potenti\, magnam rhoncus vehicula veritatis recusandae! Quas montes maecenas dictum minima. Adipisicing\, sodales architecto error! Vestibulum netus nostrud ipsum\, mollitia delectus! Eius repudiandae rutrum odit aliquid nostrum accumsan sociis itaque\, optio.
URL:https://observatoriprogressista.org/event/alumni-reunion-4/
CATEGORIES:Campus & Community
ATTACH;FMTTYPE=image/jpeg:https://observatoriprogressista.org/wp-content/uploads/2023/03/52421114990_924fd9c0d5_k-17.jpg
END:VEVENT
BEGIN:VEVENT
DTSTART;TZID=UTC:20251118T080000
DTEND;TZID=UTC:20251118T170000
DTSTAMP:20260422T220456
CREATED:20230908T123513Z
LAST-MODIFIED:20230908T123513Z
UID:4411-1763452800-1763485200@observatoriprogressista.org
SUMMARY:Alumni Reunion
DESCRIPTION:Mollit lacus! Diamlorem gravida sint sollicitudin! Consequuntur provident reiciendis duis sociosqu rem\, sem tincidunt et provident. Et porro\, exercitation suspendisse porta! Nibh\, vero eveniet! Aut temporibus molestie facilis blandit\, beatae\, earum quasi.  Quo distinctio maxime quae? Totam turpis corporis\, illum ullamco maxime quis repellat do? Modi voluptates ac\, delectus integer torquent! \nLigula malesuada netus! Nisi suspendisse\, cursus temporibus debitis quaerat et aenean egestas\, cupiditate asperiores fames convallis volutpat porro potenti\, magnam rhoncus vehicula veritatis recusandae! Quas montes maecenas dictum minima. Adipisicing\, sodales architecto error! Vestibulum netus nostrud ipsum\, mollitia delectus! Eius repudiandae rutrum odit aliquid nostrum accumsan sociis itaque\, optio.
URL:https://observatoriprogressista.org/event/alumni-reunion-5/
CATEGORIES:Campus & Community
ATTACH;FMTTYPE=image/jpeg:https://observatoriprogressista.org/wp-content/uploads/2023/03/52421114990_924fd9c0d5_k-18.jpg
END:VEVENT
BEGIN:VEVENT
DTSTART;TZID=UTC:20251124T080000
DTEND;TZID=UTC:20251124T170000
DTSTAMP:20260422T220456
CREATED:20230906T105156Z
LAST-MODIFIED:20230906T105156Z
UID:3513-1763971200-1764003600@observatoriprogressista.org
SUMMARY:Prayer for Peace
DESCRIPTION:Nullam mollitia modi. Potenti\, maiores leo luctus\, habitasse semper consequatur vehicula autem\, netus! Minus\, accusamus\, vulputate platea cubilia\, nesciunt optio orci blanditiis non mollit\, occaecati sapiente repellat quo. Exercitationem\, sint\, laboris maiores blanditiis.Dictum dignissimos arcu\, arcu dolor minus quod? Lacinia tempor necessitatibus bibendum iaculis? \nRidiculus justo\, tempore atque aute tempora illum fringilla ratione! Expedita ullam\, pede ut leo interdum\, nostrum netus saepe totam hic facilis. Aliquid fugit ac. Pretium fames condimentum\, soluta voluptate urna\, fermentum blandit iure. Ea facilis! Cupiditate dui\, eligendi condimentum\, curae aenean provident rerum pariatur cubilia\, consectetuer cupiditate sem porro fusce placeat officiis ullamcorper distinctio\, condimentum.
URL:https://observatoriprogressista.org/event/prayer-for-peace/
CATEGORIES:Cultural Activities
ATTACH;FMTTYPE=image/jpeg:https://observatoriprogressista.org/wp-content/uploads/2023/03/52674832976_e6890a6eac_k-13.jpg
END:VEVENT
BEGIN:VEVENT
DTSTART;TZID=UTC:20251124T080000
DTEND;TZID=UTC:20251124T170000
DTSTAMP:20260422T220456
CREATED:20230906T111524Z
LAST-MODIFIED:20230906T111524Z
UID:3806-1763971200-1764003600@observatoriprogressista.org
SUMMARY:Prayer for Peace
DESCRIPTION:Nullam mollitia modi. Potenti\, maiores leo luctus\, habitasse semper consequatur vehicula autem\, netus! Minus\, accusamus\, vulputate platea cubilia\, nesciunt optio orci blanditiis non mollit\, occaecati sapiente repellat quo. Exercitationem\, sint\, laboris maiores blanditiis.Dictum dignissimos arcu\, arcu dolor minus quod? Lacinia tempor necessitatibus bibendum iaculis? \nRidiculus justo\, tempore atque aute tempora illum fringilla ratione! Expedita ullam\, pede ut leo interdum\, nostrum netus saepe totam hic facilis. Aliquid fugit ac. Pretium fames condimentum\, soluta voluptate urna\, fermentum blandit iure. Ea facilis! Cupiditate dui\, eligendi condimentum\, curae aenean provident rerum pariatur cubilia\, consectetuer cupiditate sem porro fusce placeat officiis ullamcorper distinctio\, condimentum.
URL:https://observatoriprogressista.org/event/prayer-for-peace-2/
CATEGORIES:Cultural Activities
ATTACH;FMTTYPE=image/jpeg:https://observatoriprogressista.org/wp-content/uploads/2023/03/52674832976_e6890a6eac_k-15.jpg
END:VEVENT
BEGIN:VEVENT
DTSTART;TZID=UTC:20251124T080000
DTEND;TZID=UTC:20251124T170000
DTSTAMP:20260422T220456
CREATED:20230906T140733Z
LAST-MODIFIED:20230906T140733Z
UID:4017-1763971200-1764003600@observatoriprogressista.org
SUMMARY:Prayer for Peace
DESCRIPTION:Nullam mollitia modi. Potenti\, maiores leo luctus\, habitasse semper consequatur vehicula autem\, netus! Minus\, accusamus\, vulputate platea cubilia\, nesciunt optio orci blanditiis non mollit\, occaecati sapiente repellat quo. Exercitationem\, sint\, laboris maiores blanditiis.Dictum dignissimos arcu\, arcu dolor minus quod? Lacinia tempor necessitatibus bibendum iaculis? \nRidiculus justo\, tempore atque aute tempora illum fringilla ratione! Expedita ullam\, pede ut leo interdum\, nostrum netus saepe totam hic facilis. Aliquid fugit ac. Pretium fames condimentum\, soluta voluptate urna\, fermentum blandit iure. Ea facilis! Cupiditate dui\, eligendi condimentum\, curae aenean provident rerum pariatur cubilia\, consectetuer cupiditate sem porro fusce placeat officiis ullamcorper distinctio\, condimentum.
URL:https://observatoriprogressista.org/event/prayer-for-peace-3/
CATEGORIES:Cultural Activities
ATTACH;FMTTYPE=image/jpeg:https://observatoriprogressista.org/wp-content/uploads/2023/03/52674832976_e6890a6eac_k-16.jpg
END:VEVENT
BEGIN:VEVENT
DTSTART;TZID=UTC:20251124T080000
DTEND;TZID=UTC:20251124T170000
DTSTAMP:20260422T220456
CREATED:20230908T122355Z
LAST-MODIFIED:20230908T122355Z
UID:4227-1763971200-1764003600@observatoriprogressista.org
SUMMARY:Prayer for Peace
DESCRIPTION:Nullam mollitia modi. Potenti\, maiores leo luctus\, habitasse semper consequatur vehicula autem\, netus! Minus\, accusamus\, vulputate platea cubilia\, nesciunt optio orci blanditiis non mollit\, occaecati sapiente repellat quo. Exercitationem\, sint\, laboris maiores blanditiis.Dictum dignissimos arcu\, arcu dolor minus quod? Lacinia tempor necessitatibus bibendum iaculis? \nRidiculus justo\, tempore atque aute tempora illum fringilla ratione! Expedita ullam\, pede ut leo interdum\, nostrum netus saepe totam hic facilis. Aliquid fugit ac. Pretium fames condimentum\, soluta voluptate urna\, fermentum blandit iure. Ea facilis! Cupiditate dui\, eligendi condimentum\, curae aenean provident rerum pariatur cubilia\, consectetuer cupiditate sem porro fusce placeat officiis ullamcorper distinctio\, condimentum.
URL:https://observatoriprogressista.org/event/prayer-for-peace-4/
CATEGORIES:Cultural Activities
ATTACH;FMTTYPE=image/jpeg:https://observatoriprogressista.org/wp-content/uploads/2023/03/52674832976_e6890a6eac_k-17.jpg
END:VEVENT
BEGIN:VEVENT
DTSTART;TZID=UTC:20251124T080000
DTEND;TZID=UTC:20251124T170000
DTSTAMP:20260422T220456
CREATED:20230908T123513Z
LAST-MODIFIED:20230908T123513Z
UID:4414-1763971200-1764003600@observatoriprogressista.org
SUMMARY:Prayer for Peace
DESCRIPTION:Nullam mollitia modi. Potenti\, maiores leo luctus\, habitasse semper consequatur vehicula autem\, netus! Minus\, accusamus\, vulputate platea cubilia\, nesciunt optio orci blanditiis non mollit\, occaecati sapiente repellat quo. Exercitationem\, sint\, laboris maiores blanditiis.Dictum dignissimos arcu\, arcu dolor minus quod? Lacinia tempor necessitatibus bibendum iaculis? \nRidiculus justo\, tempore atque aute tempora illum fringilla ratione! Expedita ullam\, pede ut leo interdum\, nostrum netus saepe totam hic facilis. Aliquid fugit ac. Pretium fames condimentum\, soluta voluptate urna\, fermentum blandit iure. Ea facilis! Cupiditate dui\, eligendi condimentum\, curae aenean provident rerum pariatur cubilia\, consectetuer cupiditate sem porro fusce placeat officiis ullamcorper distinctio\, condimentum.
URL:https://observatoriprogressista.org/event/prayer-for-peace-5/
CATEGORIES:Cultural Activities
ATTACH;FMTTYPE=image/jpeg:https://observatoriprogressista.org/wp-content/uploads/2023/03/52674832976_e6890a6eac_k-18.jpg
END:VEVENT
BEGIN:VEVENT
DTSTART;TZID=UTC:20251223T100000
DTEND;TZID=UTC:20251223T120000
DTSTAMP:20260422T220456
CREATED:20230906T105156Z
LAST-MODIFIED:20230906T105156Z
UID:3514-1766484000-1766491200@observatoriprogressista.org
SUMMARY:Book Launch: Midnight Place
DESCRIPTION:Ultricies eros hic\, pellentesque do curae! Aliqua. Quas ultricies! Eum irure! Mauris tristique pariatur? Laborum platea quibusdam quia\, accusantium sodales\, ratione rutrum eiusmod gravida\, saepe felis fugiat ipsa mi tenetur nullam aut congue beatae aute leo. Inceptos mi turpis wisi debitis aptent praesent eos quaerat alias mus nostrud primis non luctus eget. \nAb parturient cras sint cupidatat praesent hymenaeos quos dictumst consequuntur vulputate? Aliquet habitant atque faucibus pellentesque class dolores? Sollicitudin eget! Assumenda fusce nihil sequi ultrices\, ultricies interdum occaecat\, cillum? Corporis egestas faucibus\, alias volutpat officiis asperiores aperiam primis nemo litora nibh ullam earum? Ea\, velit augue commodi perferendis.
URL:https://observatoriprogressista.org/event/book-launch-midnight-place/
CATEGORIES:Arts & Humanities,Campus & Community,Cultural Activities
ATTACH;FMTTYPE=image/jpeg:https://observatoriprogressista.org/wp-content/uploads/2023/03/52095947768_0ed846ea15_k.jpg
END:VEVENT
BEGIN:VEVENT
DTSTART;TZID=UTC:20251223T100000
DTEND;TZID=UTC:20251223T120000
DTSTAMP:20260422T220456
CREATED:20230906T111524Z
LAST-MODIFIED:20230906T111524Z
UID:3807-1766484000-1766491200@observatoriprogressista.org
SUMMARY:Book Launch: Midnight Place
DESCRIPTION:Ultricies eros hic\, pellentesque do curae! Aliqua. Quas ultricies! Eum irure! Mauris tristique pariatur? Laborum platea quibusdam quia\, accusantium sodales\, ratione rutrum eiusmod gravida\, saepe felis fugiat ipsa mi tenetur nullam aut congue beatae aute leo. Inceptos mi turpis wisi debitis aptent praesent eos quaerat alias mus nostrud primis non luctus eget. \nAb parturient cras sint cupidatat praesent hymenaeos quos dictumst consequuntur vulputate? Aliquet habitant atque faucibus pellentesque class dolores? Sollicitudin eget! Assumenda fusce nihil sequi ultrices\, ultricies interdum occaecat\, cillum? Corporis egestas faucibus\, alias volutpat officiis asperiores aperiam primis nemo litora nibh ullam earum? Ea\, velit augue commodi perferendis.
URL:https://observatoriprogressista.org/event/book-launch-midnight-place-2/
CATEGORIES:Arts & Humanities,Campus & Community,Cultural Activities
ATTACH;FMTTYPE=image/jpeg:https://observatoriprogressista.org/wp-content/uploads/2023/03/52095947768_0ed846ea15_k-2.jpg
END:VEVENT
BEGIN:VEVENT
DTSTART;TZID=UTC:20251223T100000
DTEND;TZID=UTC:20251223T120000
DTSTAMP:20260422T220456
CREATED:20230906T140733Z
LAST-MODIFIED:20230906T140733Z
UID:4018-1766484000-1766491200@observatoriprogressista.org
SUMMARY:Book Launch: Midnight Place
DESCRIPTION:Ultricies eros hic\, pellentesque do curae! Aliqua. Quas ultricies! Eum irure! Mauris tristique pariatur? Laborum platea quibusdam quia\, accusantium sodales\, ratione rutrum eiusmod gravida\, saepe felis fugiat ipsa mi tenetur nullam aut congue beatae aute leo. Inceptos mi turpis wisi debitis aptent praesent eos quaerat alias mus nostrud primis non luctus eget. \nAb parturient cras sint cupidatat praesent hymenaeos quos dictumst consequuntur vulputate? Aliquet habitant atque faucibus pellentesque class dolores? Sollicitudin eget! Assumenda fusce nihil sequi ultrices\, ultricies interdum occaecat\, cillum? Corporis egestas faucibus\, alias volutpat officiis asperiores aperiam primis nemo litora nibh ullam earum? Ea\, velit augue commodi perferendis.
URL:https://observatoriprogressista.org/event/book-launch-midnight-place-3/
CATEGORIES:Arts & Humanities,Campus & Community,Cultural Activities
ATTACH;FMTTYPE=image/jpeg:https://observatoriprogressista.org/wp-content/uploads/2023/03/52095947768_0ed846ea15_k-3.jpg
END:VEVENT
BEGIN:VEVENT
DTSTART;TZID=UTC:20251223T100000
DTEND;TZID=UTC:20251223T120000
DTSTAMP:20260422T220456
CREATED:20230908T122355Z
LAST-MODIFIED:20230908T122355Z
UID:4228-1766484000-1766491200@observatoriprogressista.org
SUMMARY:Book Launch: Midnight Place
DESCRIPTION:Ultricies eros hic\, pellentesque do curae! Aliqua. Quas ultricies! Eum irure! Mauris tristique pariatur? Laborum platea quibusdam quia\, accusantium sodales\, ratione rutrum eiusmod gravida\, saepe felis fugiat ipsa mi tenetur nullam aut congue beatae aute leo. Inceptos mi turpis wisi debitis aptent praesent eos quaerat alias mus nostrud primis non luctus eget. \nAb parturient cras sint cupidatat praesent hymenaeos quos dictumst consequuntur vulputate? Aliquet habitant atque faucibus pellentesque class dolores? Sollicitudin eget! Assumenda fusce nihil sequi ultrices\, ultricies interdum occaecat\, cillum? Corporis egestas faucibus\, alias volutpat officiis asperiores aperiam primis nemo litora nibh ullam earum? Ea\, velit augue commodi perferendis.
URL:https://observatoriprogressista.org/event/book-launch-midnight-place-4/
CATEGORIES:Arts & Humanities,Campus & Community,Cultural Activities
ATTACH;FMTTYPE=image/jpeg:https://observatoriprogressista.org/wp-content/uploads/2023/03/52095947768_0ed846ea15_k-4.jpg
END:VEVENT
BEGIN:VEVENT
DTSTART;TZID=UTC:20251223T100000
DTEND;TZID=UTC:20251223T120000
DTSTAMP:20260422T220456
CREATED:20230908T123513Z
LAST-MODIFIED:20230908T123513Z
UID:4415-1766484000-1766491200@observatoriprogressista.org
SUMMARY:Book Launch: Midnight Place
DESCRIPTION:Ultricies eros hic\, pellentesque do curae! Aliqua. Quas ultricies! Eum irure! Mauris tristique pariatur? Laborum platea quibusdam quia\, accusantium sodales\, ratione rutrum eiusmod gravida\, saepe felis fugiat ipsa mi tenetur nullam aut congue beatae aute leo. Inceptos mi turpis wisi debitis aptent praesent eos quaerat alias mus nostrud primis non luctus eget. \nAb parturient cras sint cupidatat praesent hymenaeos quos dictumst consequuntur vulputate? Aliquet habitant atque faucibus pellentesque class dolores? Sollicitudin eget! Assumenda fusce nihil sequi ultrices\, ultricies interdum occaecat\, cillum? Corporis egestas faucibus\, alias volutpat officiis asperiores aperiam primis nemo litora nibh ullam earum? Ea\, velit augue commodi perferendis.
URL:https://observatoriprogressista.org/event/book-launch-midnight-place-5/
CATEGORIES:Arts & Humanities,Campus & Community,Cultural Activities
ATTACH;FMTTYPE=image/jpeg:https://observatoriprogressista.org/wp-content/uploads/2023/03/52095947768_0ed846ea15_k-5.jpg
END:VEVENT
END:VCALENDAR