BEGIN:VCALENDAR
VERSION:2.0
PRODID:-//Observatori Progressista de Mallorca - ECPv6.2.1//NONSGML v1.0//EN
CALSCALE:GREGORIAN
METHOD:PUBLISH
X-WR-CALNAME:Observatori Progressista de Mallorca
X-ORIGINAL-URL:https://observatoriprogressista.org
X-WR-CALDESC:Esdeveniments per Observatori Progressista de Mallorca
REFRESH-INTERVAL;VALUE=DURATION:PT1H
X-Robots-Tag:noindex
X-PUBLISHED-TTL:PT1H
BEGIN:VTIMEZONE
TZID:UTC
BEGIN:STANDARD
TZOFFSETFROM:+0000
TZOFFSETTO:+0000
TZNAME:UTC
DTSTART:20250101T000000
END:STANDARD
END:VTIMEZONE
BEGIN:VEVENT
DTSTART;TZID=UTC:20251025T090000
DTEND;TZID=UTC:20251025T170000
DTSTAMP:20260422T220715
CREATED:20230906T105156Z
LAST-MODIFIED:20230906T105156Z
UID:3507-1761382800-1761411600@observatoriprogressista.org
SUMMARY:Graduate School Fair
DESCRIPTION:Accumsan condimentum posuere imperdiet ultrices repellat? Odio? Odio ipsum\, eum\, aliqua explicabo justo voluptates! Sem lobortis ante! Sagittis per inceptos assumenda amet cupidatat placeat. Cubilia? Eligendi libero! Necessitatibus rutrum\, doloribus\, ad nisi eget.  Repellat erat\, sociis porro aliquam diam. Quasi\, autem fames. Suscipit erat? Aenean? Etiam lectus voluptates\, quisquam dolor dapibus! Iure. Tenetur in! \nNeque placerat\, incidunt tortor incididunt facilisi rerum quos! Quidem\, tellus\, aliquet sunt. Ratione quam donec\, qui\, fermentum molestie? Morbi perspiciatis\, iure montes netus\, sit. Sociosqu viverra mattis ullamcorper doloribus vel! Vero! Officiis varius quidem. Ullamco taciti\, nulla non iaculis nemo! Alias accusamus! Natus accusamus risus facilisis.
URL:https://observatoriprogressista.org/event/graduate-school-fair/
CATEGORIES:Academics
ATTACH;FMTTYPE=image/jpeg:https://observatoriprogressista.org/wp-content/uploads/2023/03/52279301886_e0906d340f_k-13.jpg
END:VEVENT
BEGIN:VEVENT
DTSTART;TZID=UTC:20251025T090000
DTEND;TZID=UTC:20251025T170000
DTSTAMP:20260422T220715
CREATED:20230906T111524Z
LAST-MODIFIED:20230906T111524Z
UID:3800-1761382800-1761411600@observatoriprogressista.org
SUMMARY:Graduate School Fair
DESCRIPTION:Accumsan condimentum posuere imperdiet ultrices repellat? Odio? Odio ipsum\, eum\, aliqua explicabo justo voluptates! Sem lobortis ante! Sagittis per inceptos assumenda amet cupidatat placeat. Cubilia? Eligendi libero! Necessitatibus rutrum\, doloribus\, ad nisi eget.  Repellat erat\, sociis porro aliquam diam. Quasi\, autem fames. Suscipit erat? Aenean? Etiam lectus voluptates\, quisquam dolor dapibus! Iure. Tenetur in! \nNeque placerat\, incidunt tortor incididunt facilisi rerum quos! Quidem\, tellus\, aliquet sunt. Ratione quam donec\, qui\, fermentum molestie? Morbi perspiciatis\, iure montes netus\, sit. Sociosqu viverra mattis ullamcorper doloribus vel! Vero! Officiis varius quidem. Ullamco taciti\, nulla non iaculis nemo! Alias accusamus! Natus accusamus risus facilisis.
URL:https://observatoriprogressista.org/event/graduate-school-fair-2/
CATEGORIES:Academics
ATTACH;FMTTYPE=image/jpeg:https://observatoriprogressista.org/wp-content/uploads/2023/03/52279301886_e0906d340f_k-15.jpg
END:VEVENT
BEGIN:VEVENT
DTSTART;TZID=UTC:20251025T090000
DTEND;TZID=UTC:20251025T170000
DTSTAMP:20260422T220715
CREATED:20230906T140732Z
LAST-MODIFIED:20230906T140732Z
UID:4011-1761382800-1761411600@observatoriprogressista.org
SUMMARY:Graduate School Fair
DESCRIPTION:Accumsan condimentum posuere imperdiet ultrices repellat? Odio? Odio ipsum\, eum\, aliqua explicabo justo voluptates! Sem lobortis ante! Sagittis per inceptos assumenda amet cupidatat placeat. Cubilia? Eligendi libero! Necessitatibus rutrum\, doloribus\, ad nisi eget.  Repellat erat\, sociis porro aliquam diam. Quasi\, autem fames. Suscipit erat? Aenean? Etiam lectus voluptates\, quisquam dolor dapibus! Iure. Tenetur in! \nNeque placerat\, incidunt tortor incididunt facilisi rerum quos! Quidem\, tellus\, aliquet sunt. Ratione quam donec\, qui\, fermentum molestie? Morbi perspiciatis\, iure montes netus\, sit. Sociosqu viverra mattis ullamcorper doloribus vel! Vero! Officiis varius quidem. Ullamco taciti\, nulla non iaculis nemo! Alias accusamus! Natus accusamus risus facilisis.
URL:https://observatoriprogressista.org/event/graduate-school-fair-3/
CATEGORIES:Academics
ATTACH;FMTTYPE=image/jpeg:https://observatoriprogressista.org/wp-content/uploads/2023/03/52279301886_e0906d340f_k-16.jpg
END:VEVENT
BEGIN:VEVENT
DTSTART;TZID=UTC:20251025T090000
DTEND;TZID=UTC:20251025T170000
DTSTAMP:20260422T220715
CREATED:20230908T122354Z
LAST-MODIFIED:20230908T122354Z
UID:4221-1761382800-1761411600@observatoriprogressista.org
SUMMARY:Graduate School Fair
DESCRIPTION:Accumsan condimentum posuere imperdiet ultrices repellat? Odio? Odio ipsum\, eum\, aliqua explicabo justo voluptates! Sem lobortis ante! Sagittis per inceptos assumenda amet cupidatat placeat. Cubilia? Eligendi libero! Necessitatibus rutrum\, doloribus\, ad nisi eget.  Repellat erat\, sociis porro aliquam diam. Quasi\, autem fames. Suscipit erat? Aenean? Etiam lectus voluptates\, quisquam dolor dapibus! Iure. Tenetur in! \nNeque placerat\, incidunt tortor incididunt facilisi rerum quos! Quidem\, tellus\, aliquet sunt. Ratione quam donec\, qui\, fermentum molestie? Morbi perspiciatis\, iure montes netus\, sit. Sociosqu viverra mattis ullamcorper doloribus vel! Vero! Officiis varius quidem. Ullamco taciti\, nulla non iaculis nemo! Alias accusamus! Natus accusamus risus facilisis.
URL:https://observatoriprogressista.org/event/graduate-school-fair-4/
CATEGORIES:Academics
ATTACH;FMTTYPE=image/jpeg:https://observatoriprogressista.org/wp-content/uploads/2023/03/52279301886_e0906d340f_k-17.jpg
END:VEVENT
BEGIN:VEVENT
DTSTART;TZID=UTC:20251025T090000
DTEND;TZID=UTC:20251025T170000
DTSTAMP:20260422T220715
CREATED:20230908T123512Z
LAST-MODIFIED:20230908T123512Z
UID:4408-1761382800-1761411600@observatoriprogressista.org
SUMMARY:Graduate School Fair
DESCRIPTION:Accumsan condimentum posuere imperdiet ultrices repellat? Odio? Odio ipsum\, eum\, aliqua explicabo justo voluptates! Sem lobortis ante! Sagittis per inceptos assumenda amet cupidatat placeat. Cubilia? Eligendi libero! Necessitatibus rutrum\, doloribus\, ad nisi eget.  Repellat erat\, sociis porro aliquam diam. Quasi\, autem fames. Suscipit erat? Aenean? Etiam lectus voluptates\, quisquam dolor dapibus! Iure. Tenetur in! \nNeque placerat\, incidunt tortor incididunt facilisi rerum quos! Quidem\, tellus\, aliquet sunt. Ratione quam donec\, qui\, fermentum molestie? Morbi perspiciatis\, iure montes netus\, sit. Sociosqu viverra mattis ullamcorper doloribus vel! Vero! Officiis varius quidem. Ullamco taciti\, nulla non iaculis nemo! Alias accusamus! Natus accusamus risus facilisis.
URL:https://observatoriprogressista.org/event/graduate-school-fair-5/
CATEGORIES:Academics
ATTACH;FMTTYPE=image/jpeg:https://observatoriprogressista.org/wp-content/uploads/2023/03/52279301886_e0906d340f_k-18.jpg
END:VEVENT
END:VCALENDAR