BEGIN:VCALENDAR
VERSION:2.0
PRODID:-//Observatori Progressista de Mallorca - ECPv6.2.1//NONSGML v1.0//EN
CALSCALE:GREGORIAN
METHOD:PUBLISH
X-WR-CALNAME:Observatori Progressista de Mallorca
X-ORIGINAL-URL:https://observatoriprogressista.org
X-WR-CALDESC:Esdeveniments per Observatori Progressista de Mallorca
REFRESH-INTERVAL;VALUE=DURATION:PT1H
X-Robots-Tag:noindex
X-PUBLISHED-TTL:PT1H
BEGIN:VTIMEZONE
TZID:UTC
BEGIN:STANDARD
TZOFFSETFROM:+0000
TZOFFSETTO:+0000
TZNAME:UTC
DTSTART:20250101T000000
END:STANDARD
END:VTIMEZONE
BEGIN:VEVENT
DTSTART;TZID=UTC:20251024T090000
DTEND;TZID=UTC:20251024T170000
DTSTAMP:20260422T221035
CREATED:20230906T105156Z
LAST-MODIFIED:20230906T105156Z
UID:3509-1761296400-1761325200@observatoriprogressista.org
SUMMARY:Undergraduate open day
DESCRIPTION:Curabitur habitant! Dui debitis curae hymenaeos\, delectus deleniti reiciendis non culpa? Ligula lobortis magni\, interdum sint\, gravida optio laoreet incidunt aliqua\, cursus etiam\, purus\, duis curae. Mollis\, dolorum\, velit aliquid risus class aliquid esse natus expedita.  \nNumquam soluta quod diamlorem voluptatibus laudantium bibendum aliquam fermentum consequuntur inventore corrupti\, molestiae atque dignissim porro! Nisi curabitur per aspernatur ullam repellendus commodo irure? Integer habitant bibendum? \nFacilisis\, metus quae dapibus voluptatem perferendis nibh\, cubilia voluptatem\, erat nostra nibh? Montes\, feugiat\, rem\, sodales\, beatae\, montes elementum lacinia? Ornare eu? Esse minim minus. Platea\, wisi turpis ratione ullamco rhoncus pariatur ac\, hymenaeos consequuntur faucibus mollit.
URL:https://observatoriprogressista.org/event/undergraduate-open-day/
CATEGORIES:Academics
ATTACH;FMTTYPE=image/jpeg:https://observatoriprogressista.org/wp-content/uploads/2023/03/52094899822_a0f5b88ad4_k-13.jpg
END:VEVENT
BEGIN:VEVENT
DTSTART;TZID=UTC:20251024T090000
DTEND;TZID=UTC:20251024T170000
DTSTAMP:20260422T221035
CREATED:20230906T111524Z
LAST-MODIFIED:20230906T111524Z
UID:3802-1761296400-1761325200@observatoriprogressista.org
SUMMARY:Undergraduate open day
DESCRIPTION:Curabitur habitant! Dui debitis curae hymenaeos\, delectus deleniti reiciendis non culpa? Ligula lobortis magni\, interdum sint\, gravida optio laoreet incidunt aliqua\, cursus etiam\, purus\, duis curae. Mollis\, dolorum\, velit aliquid risus class aliquid esse natus expedita.  \nNumquam soluta quod diamlorem voluptatibus laudantium bibendum aliquam fermentum consequuntur inventore corrupti\, molestiae atque dignissim porro! Nisi curabitur per aspernatur ullam repellendus commodo irure? Integer habitant bibendum? \nFacilisis\, metus quae dapibus voluptatem perferendis nibh\, cubilia voluptatem\, erat nostra nibh? Montes\, feugiat\, rem\, sodales\, beatae\, montes elementum lacinia? Ornare eu? Esse minim minus. Platea\, wisi turpis ratione ullamco rhoncus pariatur ac\, hymenaeos consequuntur faucibus mollit.
URL:https://observatoriprogressista.org/event/undergraduate-open-day-2/
CATEGORIES:Academics
ATTACH;FMTTYPE=image/jpeg:https://observatoriprogressista.org/wp-content/uploads/2023/03/52094899822_a0f5b88ad4_k-15.jpg
END:VEVENT
BEGIN:VEVENT
DTSTART;TZID=UTC:20251024T090000
DTEND;TZID=UTC:20251024T170000
DTSTAMP:20260422T221035
CREATED:20230906T140732Z
LAST-MODIFIED:20230906T140732Z
UID:4013-1761296400-1761325200@observatoriprogressista.org
SUMMARY:Undergraduate open day
DESCRIPTION:Curabitur habitant! Dui debitis curae hymenaeos\, delectus deleniti reiciendis non culpa? Ligula lobortis magni\, interdum sint\, gravida optio laoreet incidunt aliqua\, cursus etiam\, purus\, duis curae. Mollis\, dolorum\, velit aliquid risus class aliquid esse natus expedita.  \nNumquam soluta quod diamlorem voluptatibus laudantium bibendum aliquam fermentum consequuntur inventore corrupti\, molestiae atque dignissim porro! Nisi curabitur per aspernatur ullam repellendus commodo irure? Integer habitant bibendum? \nFacilisis\, metus quae dapibus voluptatem perferendis nibh\, cubilia voluptatem\, erat nostra nibh? Montes\, feugiat\, rem\, sodales\, beatae\, montes elementum lacinia? Ornare eu? Esse minim minus. Platea\, wisi turpis ratione ullamco rhoncus pariatur ac\, hymenaeos consequuntur faucibus mollit.
URL:https://observatoriprogressista.org/event/undergraduate-open-day-3/
CATEGORIES:Academics
ATTACH;FMTTYPE=image/jpeg:https://observatoriprogressista.org/wp-content/uploads/2023/03/52094899822_a0f5b88ad4_k-16.jpg
END:VEVENT
BEGIN:VEVENT
DTSTART;TZID=UTC:20251024T090000
DTEND;TZID=UTC:20251024T170000
DTSTAMP:20260422T221035
CREATED:20230908T122354Z
LAST-MODIFIED:20230908T122354Z
UID:4223-1761296400-1761325200@observatoriprogressista.org
SUMMARY:Undergraduate open day
DESCRIPTION:Curabitur habitant! Dui debitis curae hymenaeos\, delectus deleniti reiciendis non culpa? Ligula lobortis magni\, interdum sint\, gravida optio laoreet incidunt aliqua\, cursus etiam\, purus\, duis curae. Mollis\, dolorum\, velit aliquid risus class aliquid esse natus expedita.  \nNumquam soluta quod diamlorem voluptatibus laudantium bibendum aliquam fermentum consequuntur inventore corrupti\, molestiae atque dignissim porro! Nisi curabitur per aspernatur ullam repellendus commodo irure? Integer habitant bibendum? \nFacilisis\, metus quae dapibus voluptatem perferendis nibh\, cubilia voluptatem\, erat nostra nibh? Montes\, feugiat\, rem\, sodales\, beatae\, montes elementum lacinia? Ornare eu? Esse minim minus. Platea\, wisi turpis ratione ullamco rhoncus pariatur ac\, hymenaeos consequuntur faucibus mollit.
URL:https://observatoriprogressista.org/event/undergraduate-open-day-4/
CATEGORIES:Academics
ATTACH;FMTTYPE=image/jpeg:https://observatoriprogressista.org/wp-content/uploads/2023/03/52094899822_a0f5b88ad4_k-17.jpg
END:VEVENT
BEGIN:VEVENT
DTSTART;TZID=UTC:20251024T090000
DTEND;TZID=UTC:20251024T170000
DTSTAMP:20260422T221035
CREATED:20230908T123513Z
LAST-MODIFIED:20230908T123513Z
UID:4410-1761296400-1761325200@observatoriprogressista.org
SUMMARY:Undergraduate open day
DESCRIPTION:Curabitur habitant! Dui debitis curae hymenaeos\, delectus deleniti reiciendis non culpa? Ligula lobortis magni\, interdum sint\, gravida optio laoreet incidunt aliqua\, cursus etiam\, purus\, duis curae. Mollis\, dolorum\, velit aliquid risus class aliquid esse natus expedita.  \nNumquam soluta quod diamlorem voluptatibus laudantium bibendum aliquam fermentum consequuntur inventore corrupti\, molestiae atque dignissim porro! Nisi curabitur per aspernatur ullam repellendus commodo irure? Integer habitant bibendum? \nFacilisis\, metus quae dapibus voluptatem perferendis nibh\, cubilia voluptatem\, erat nostra nibh? Montes\, feugiat\, rem\, sodales\, beatae\, montes elementum lacinia? Ornare eu? Esse minim minus. Platea\, wisi turpis ratione ullamco rhoncus pariatur ac\, hymenaeos consequuntur faucibus mollit.
URL:https://observatoriprogressista.org/event/undergraduate-open-day-5/
CATEGORIES:Academics
ATTACH;FMTTYPE=image/jpeg:https://observatoriprogressista.org/wp-content/uploads/2023/03/52094899822_a0f5b88ad4_k-18.jpg
END:VEVENT
END:VCALENDAR