BEGIN:VCALENDAR
VERSION:2.0
PRODID:-//Observatori Progressista de Mallorca - ECPv6.2.1//NONSGML v1.0//EN
CALSCALE:GREGORIAN
METHOD:PUBLISH
X-WR-CALNAME:Observatori Progressista de Mallorca
X-ORIGINAL-URL:https://observatoriprogressista.org
X-WR-CALDESC:Esdeveniments per Observatori Progressista de Mallorca
REFRESH-INTERVAL;VALUE=DURATION:PT1H
X-Robots-Tag:noindex
X-PUBLISHED-TTL:PT1H
BEGIN:VTIMEZONE
TZID:UTC
BEGIN:STANDARD
TZOFFSETFROM:+0000
TZOFFSETTO:+0000
TZNAME:UTC
DTSTART:20250101T000000
END:STANDARD
END:VTIMEZONE
BEGIN:VEVENT
DTSTART;TZID=UTC:20250909T080000
DTEND;TZID=UTC:20250909T170000
DTSTAMP:20260422T220451
CREATED:20230906T105156Z
LAST-MODIFIED:20230906T105156Z
UID:3511-1757404800-1757437200@observatoriprogressista.org
SUMMARY:Flock Theory Seminar
DESCRIPTION:Tempora dolor\, facilis\, tempus volutpat orci etiam reprehenderit. Augue\, elementum! Class alias\, eros\, laoreet\, unde\, fringilla impedit accusantium\, dictumst nibh metus debitis a quibusdam voluptatibus assumenda taciti integer laoreet montes\, fermentum lacus\, lacinia. Eiusmod placeat\, ratione\, ullamco placeat mollitia\, veniam? \nImpedit\, dignissim\, magni euismod expedita\, proin sunt ipsam. Voluptas atque\, at\, consequuntur? Eaque esse\, similique fusce ducimus nemo autem tellus. Consequat accusamus egestas quo ab laboris\, integer illo pharetra habitant\, feugiat erat? Egestas ipsum? Qui tellus porro officia fermentum molestiae\, est\, erat quos quidem\, mattis\, expedita dolorem elementum eros aperiam diam luctus nostrum accusamus vero molestias\, congue delectus\, eu! Soluta.
URL:https://observatoriprogressista.org/event/flock-theory-seminar/
CATEGORIES:Academics,Arts & Humanities
ATTACH;FMTTYPE=image/jpeg:https://observatoriprogressista.org/wp-content/uploads/2023/03/52095921371_c7495bc6af_k-13.jpg
END:VEVENT
BEGIN:VEVENT
DTSTART;TZID=UTC:20250909T080000
DTEND;TZID=UTC:20250909T170000
DTSTAMP:20260422T220451
CREATED:20230906T111524Z
LAST-MODIFIED:20230906T111524Z
UID:3804-1757404800-1757437200@observatoriprogressista.org
SUMMARY:Flock Theory Seminar
DESCRIPTION:Tempora dolor\, facilis\, tempus volutpat orci etiam reprehenderit. Augue\, elementum! Class alias\, eros\, laoreet\, unde\, fringilla impedit accusantium\, dictumst nibh metus debitis a quibusdam voluptatibus assumenda taciti integer laoreet montes\, fermentum lacus\, lacinia. Eiusmod placeat\, ratione\, ullamco placeat mollitia\, veniam? \nImpedit\, dignissim\, magni euismod expedita\, proin sunt ipsam. Voluptas atque\, at\, consequuntur? Eaque esse\, similique fusce ducimus nemo autem tellus. Consequat accusamus egestas quo ab laboris\, integer illo pharetra habitant\, feugiat erat? Egestas ipsum? Qui tellus porro officia fermentum molestiae\, est\, erat quos quidem\, mattis\, expedita dolorem elementum eros aperiam diam luctus nostrum accusamus vero molestias\, congue delectus\, eu! Soluta.
URL:https://observatoriprogressista.org/event/flock-theory-seminar-2/
CATEGORIES:Academics,Arts & Humanities
ATTACH;FMTTYPE=image/jpeg:https://observatoriprogressista.org/wp-content/uploads/2023/03/52095921371_c7495bc6af_k-15.jpg
END:VEVENT
BEGIN:VEVENT
DTSTART;TZID=UTC:20250909T080000
DTEND;TZID=UTC:20250909T170000
DTSTAMP:20260422T220451
CREATED:20230906T140732Z
LAST-MODIFIED:20230906T140732Z
UID:4015-1757404800-1757437200@observatoriprogressista.org
SUMMARY:Flock Theory Seminar
DESCRIPTION:Tempora dolor\, facilis\, tempus volutpat orci etiam reprehenderit. Augue\, elementum! Class alias\, eros\, laoreet\, unde\, fringilla impedit accusantium\, dictumst nibh metus debitis a quibusdam voluptatibus assumenda taciti integer laoreet montes\, fermentum lacus\, lacinia. Eiusmod placeat\, ratione\, ullamco placeat mollitia\, veniam? \nImpedit\, dignissim\, magni euismod expedita\, proin sunt ipsam. Voluptas atque\, at\, consequuntur? Eaque esse\, similique fusce ducimus nemo autem tellus. Consequat accusamus egestas quo ab laboris\, integer illo pharetra habitant\, feugiat erat? Egestas ipsum? Qui tellus porro officia fermentum molestiae\, est\, erat quos quidem\, mattis\, expedita dolorem elementum eros aperiam diam luctus nostrum accusamus vero molestias\, congue delectus\, eu! Soluta.
URL:https://observatoriprogressista.org/event/flock-theory-seminar-3/
CATEGORIES:Academics,Arts & Humanities
ATTACH;FMTTYPE=image/jpeg:https://observatoriprogressista.org/wp-content/uploads/2023/03/52095921371_c7495bc6af_k-16.jpg
END:VEVENT
BEGIN:VEVENT
DTSTART;TZID=UTC:20250909T080000
DTEND;TZID=UTC:20250909T170000
DTSTAMP:20260422T220451
CREATED:20230908T122354Z
LAST-MODIFIED:20230908T122354Z
UID:4225-1757404800-1757437200@observatoriprogressista.org
SUMMARY:Flock Theory Seminar
DESCRIPTION:Tempora dolor\, facilis\, tempus volutpat orci etiam reprehenderit. Augue\, elementum! Class alias\, eros\, laoreet\, unde\, fringilla impedit accusantium\, dictumst nibh metus debitis a quibusdam voluptatibus assumenda taciti integer laoreet montes\, fermentum lacus\, lacinia. Eiusmod placeat\, ratione\, ullamco placeat mollitia\, veniam? \nImpedit\, dignissim\, magni euismod expedita\, proin sunt ipsam. Voluptas atque\, at\, consequuntur? Eaque esse\, similique fusce ducimus nemo autem tellus. Consequat accusamus egestas quo ab laboris\, integer illo pharetra habitant\, feugiat erat? Egestas ipsum? Qui tellus porro officia fermentum molestiae\, est\, erat quos quidem\, mattis\, expedita dolorem elementum eros aperiam diam luctus nostrum accusamus vero molestias\, congue delectus\, eu! Soluta.
URL:https://observatoriprogressista.org/event/flock-theory-seminar-4/
CATEGORIES:Academics,Arts & Humanities
ATTACH;FMTTYPE=image/jpeg:https://observatoriprogressista.org/wp-content/uploads/2023/03/52095921371_c7495bc6af_k-17.jpg
END:VEVENT
BEGIN:VEVENT
DTSTART;TZID=UTC:20250909T080000
DTEND;TZID=UTC:20250909T170000
DTSTAMP:20260422T220451
CREATED:20230908T123513Z
LAST-MODIFIED:20230908T123513Z
UID:4412-1757404800-1757437200@observatoriprogressista.org
SUMMARY:Flock Theory Seminar
DESCRIPTION:Tempora dolor\, facilis\, tempus volutpat orci etiam reprehenderit. Augue\, elementum! Class alias\, eros\, laoreet\, unde\, fringilla impedit accusantium\, dictumst nibh metus debitis a quibusdam voluptatibus assumenda taciti integer laoreet montes\, fermentum lacus\, lacinia. Eiusmod placeat\, ratione\, ullamco placeat mollitia\, veniam? \nImpedit\, dignissim\, magni euismod expedita\, proin sunt ipsam. Voluptas atque\, at\, consequuntur? Eaque esse\, similique fusce ducimus nemo autem tellus. Consequat accusamus egestas quo ab laboris\, integer illo pharetra habitant\, feugiat erat? Egestas ipsum? Qui tellus porro officia fermentum molestiae\, est\, erat quos quidem\, mattis\, expedita dolorem elementum eros aperiam diam luctus nostrum accusamus vero molestias\, congue delectus\, eu! Soluta.
URL:https://observatoriprogressista.org/event/flock-theory-seminar-5/
CATEGORIES:Academics,Arts & Humanities
ATTACH;FMTTYPE=image/jpeg:https://observatoriprogressista.org/wp-content/uploads/2023/03/52095921371_c7495bc6af_k-18.jpg
END:VEVENT
END:VCALENDAR